BEGIN:VCALENDAR
VERSION:2.0
PRODID:-//wp-events-plugin.com//7.2.3.1//EN
TZID:Europe/Paris
X-WR-TIMEZONE:Europe/Paris
BEGIN:VEVENT
UID:2@scubapnea.com
DTSTART;TZID=Europe/Paris:20230916T200000
DTEND;TZID=Europe/Paris:20230917T040000
DTSTAMP:20230915T163253Z
URL:https://www.scubapnea.com/evenements/concert-fabian-ordonez/
SUMMARY:Concert Gratuit Fabian Ordoñez
DESCRIPTION:PROGRAMME DE LA SOIRÉE\n** Entrée gratuite par inscription en
  ligne / places limitées **\n\n20h00 : Ouverture des portes au public\nCo
 ncert Live FRANGLISH BEATS\n\n21h30 : DJ Cris Arcas\n\n22h00 : Concert Liv
 e FABIAN ORDOÑEZ\n\n00h00 – 04h00 : DJ Cris Arcas\n\n\n\nConcert Live F
 abian Ordoñez à l'Argonaute\n« Ça fait quarante ans que j’attendais 
 ça ! Mes fils ont exaucé mes rêves artistiques : ce sont les garçons q
 ui m’ont poussé\, et à chanter en français. Mes fils sont mes product
 eurs\, ils sont devenus mes patrons ! »\, s’amuse Fabian.\n\nLe morceau
  emblématique "Papa" de Bigflo et Oli a mis cet Argentin de 62 ans sous l
 es feux de la rampe le 9 novembre 2017. Ses "garçons" lui offrent cette c
 hanson comme présent pour ses 58 ans.\n\n"J'ai attendu cela pendant quara
 nte ans! Mes garçons ont réalisé mes aspirations artistiques : ce sont 
 eux qui m'ont encouragé à chanter en français. Mes fils sont à la fois
  mes producteurs et mes guides\," confie joyeusement Fabian.\n\nSon opus\,
  El Padre\, a vu le jour fin 2019\, suivi d'une tournée interrompue par l
 a pandémie de Covid. Il planche désormais sur un second album avec "dava
 ntage de compositions originales"\, dit-il.\n\nUn regard sur sa vie :\n\nN
 é le 9 novembre 1959 à Realico\, en Argentine\, Fabian Ordoñez a fui le
  régime dictatorial en 1978. Musicien nomade\, il a parcouru l'Europe\, a
 vant de s'établir à Toulouse en 1986. En 1993\, il inaugure le Barrio la
 tino\, un club où il joue avec son groupe de salsa.\n\nAvec la montée en
  puissance de ses fils\, Fabian Ordoñez s'est retrouvé sur de grandes sc
 ènes françaises\, offrant des couplets en espagnol à leurs côtés. Mal
 gré des années d'anonymat\, cet artiste passionné a toujours rêvé de 
 tels moments.\n\nSon point de vue :\n\n"Des personnes m'ont complimenté s
 ur ma voix et suggéré de poursuivre ma carrière\, alors que cela fait q
 uarante ans que je suis dans la musique"\, raconte-t-il avec son mélange 
 unique d'accents argentin et toulousain. La musique a toujours été sa co
 mpagne\, comme le démontrent les clichés familiaux. Ses fils\, Olivio et
  Florent\, ont hérité de cette passion. "Étant noctambule\, il prenait 
 soin des enfants durant la journée et les amenait au conservatoire"\, se 
 rappelle Alejandro Riquelme\, un ami proche.\n\n[embed]https://youtu.be/YD
 JNPL5VamA[/embed]\n\n\n\nDJ Cris Arcas\nOriginaire de la vibrante ville de
  Toulouse\, où il réside toujours\, Cris Arcas est un mélange unique de
  cultures françaises et espagnoles. Avec un nom de scène inspiré de son
  propre nom\, DJ Cris Arcas est un maître de la platine depuis trois déc
 ennies\, évoquant des rythmes qui ont fait danser des milliers de personn
 es à travers le monde.\n\nSans aucune formation formelle\, Cris est fier 
 d'être autodidacte\, prouvant que la passion et la détermination peuvent
  surpasser tout enseignement traditionnel. Ses goûts sont vastes et vari
 és\, inspirés par des artistes tels que le musicien et producteur britan
 nique Matthew Herbert. Que ce soit l'électro\, le jazz\, la musique latin
 o\, la new wave\, le disco ou même le groove\, Cris sait comment fusionne
 r des genres de manière harmonieuse pour captiver son public.\n\nSa carri
 ère l'a emmené dans des lieux exotiques et mémorables\, commençant dan
 s le sud de l'Italie à Paestum sur la côte Amalfitaine en 1990. Depuis l
 ors\, ses sets ont illuminé des scènes à Barcelone\, Megève\, Den Haag
 \, Amsterdam et Paris. Il a également été invité sur le plateau du Fes
 tival Argonaute en 2022. Cette année il sera encore sur le plateau du Fes
 tival Scubapnea.\n\nRécemment\, une collaboration fructueuse est née ave
 c le groupe AKB et le groupe FRANGLISH BEATS\, élargissant encore le spec
 tre musical de Cris. Malgré sa longue carrière\, sa passion pour la musi
 que reste évidente dans son choix de matériel : les platines vinyles\, a
 pportant une chaleur et une authenticité à ses sets.\n\nPréférant l'im
 provisation à la préparation\, Cris est un maître de l'adaptation\, sac
 hant exactement comment répondre aux besoins de son public. Ce talent par
 ticulier lui permet de passer d'un genre à l'autre\, créant des ambiance
 s toujours renouvelées et surprenantes.
ATTACH;FMTTYPE=image/jpeg:https://www.scubapnea.com/wp-content/uploads/202
 3/07/event-ordonez.jpg
LOCATION:Argonaute\, 14 rue Hermès\, Ramonville Saint-Agne\, 31520\, Franc
 e
X-APPLE-STRUCTURED-LOCATION;VALUE=URI;X-ADDRESS=14 rue Hermès\, Ramonville
  Saint-Agne\, 31520\, France;X-APPLE-RADIUS=100;X-TITLE=Argonaute:geo:0,0
END:VEVENT
BEGIN:VTIMEZONE
TZID:Europe/Paris
X-LIC-LOCATION:Europe/Paris
BEGIN:DAYLIGHT
DTSTART:20230326T030000
TZOFFSETFROM:+0100
TZOFFSETTO:+0200
TZNAME:CEST
END:DAYLIGHT
END:VTIMEZONE
END:VCALENDAR